BEGIN:VCALENDAR
VERSION:2.0
PRODID:-//85.13.128.79//NONSGML kigkonsult.se iCalcreator 2.20//
CALSCALE:GREGORIAN
METHOD:PUBLISH
X-WR-TIMEZONE:Europe/Berlin
BEGIN:VEVENT
UID:event7@Reckenger Musek
DTSTAMP:20210720T001606Z
CATEGORIES:Fest
DESCRIPTION:Theater\nCategory: Fest\nLink: http://reckenger-musek.eu/index.
 php?option=com_jem&view=event&id=7:theater\n
DTSTART;VALUE=DATE:20191115
DTEND;VALUE=DATE:20191116
SUMMARY:Theater
URL:http://reckenger-musek.eu/index.php?option=com_jem&view=event&id=7:thea
 ter
END:VEVENT
END:VCALENDAR
