BEGIN:VCALENDAR
VERSION:2.0
PRODID:-//85.13.128.79//NONSGML kigkonsult.se iCalcreator 2.20//
CALSCALE:GREGORIAN
METHOD:PUBLISH
X-WR-TIMEZONE:Europe/Berlin
BEGIN:VEVENT
UID:event6@Reckenger Musek
DTSTAMP:20210720T001623Z
CATEGORIES:Sortie
DESCRIPTION:Proufweekend\nCategory: Sortie\nLink: http://reckenger-musek.eu
 /index.php?option=com_jem&view=event&id=6:proufweekend\n
DTSTART;VALUE=DATE:20190921
DTEND;VALUE=DATE:20190922
SUMMARY:Proufweekend
URL:http://reckenger-musek.eu/index.php?option=com_jem&view=event&id=6:prou
 fweekend
END:VEVENT
END:VCALENDAR
