BEGIN:VCALENDAR
VERSION:2.0
PRODID:-//85.13.128.79//NONSGML kigkonsult.se iCalcreator 2.20//
CALSCALE:GREGORIAN
METHOD:PUBLISH
X-WR-TIMEZONE:Europe/Berlin
BEGIN:VEVENT
UID:event5@Reckenger Musek
DTSTAMP:20210720T001635Z
CATEGORIES:Prouf
DESCRIPTION:Éischt Prouf\nCategory: Prouf\nLink: http://reckenger-musek.eu/
 index.php?option=com_jem&view=event&id=5:escht-prouf\n
DTSTART;TZID=Europe/Berlin:20190916T193000
DTEND;TZID=Europe/Berlin:20190916T193000
SUMMARY:Éischt Prouf
URL:http://reckenger-musek.eu/index.php?option=com_jem&view=event&id=5:esch
 t-prouf
END:VEVENT
END:VCALENDAR
