BEGIN:VCALENDAR
VERSION:2.0
PRODID:-//85.13.128.79//NONSGML kigkonsult.se iCalcreator 2.20//
CALSCALE:GREGORIAN
METHOD:PUBLISH
X-WR-TIMEZONE:Europe/Berlin
BEGIN:VEVENT
UID:event4@Reckenger Musek
DTSTAMP:20210720T001722Z
CATEGORIES:Concert
DESCRIPTION:Concert um Live am Park zu Déifferdeng\nCategory: Concert\nLink
 : http://reckenger-musek.eu/index.php?option=com_jem&view=event&id=4:conce
 rt-um-live-am-park-zu-deifferdeng\n
DTSTART;TZID=Europe/Berlin:20190524T180000
DTEND;TZID=Europe/Berlin:20190524T180000
SUMMARY:Concert um Live am Park zu Déifferdeng
URL:http://reckenger-musek.eu/index.php?option=com_jem&view=event&id=4:conc
 ert-um-live-am-park-zu-deifferdeng
END:VEVENT
END:VCALENDAR
