BEGIN:VCALENDAR
VERSION:2.0
PRODID:-//85.13.128.79//NONSGML kigkonsult.se iCalcreator 2.20//
CALSCALE:GREGORIAN
METHOD:PUBLISH
X-WR-TIMEZONE:Europe/Berlin
BEGIN:VEVENT
UID:event36@Reckenger Musek
DTSTAMP:20210720T001215Z
CATEGORIES:Sortie
DESCRIPTION:Buergbrennen zu Lampech\nCategory: Sortie\nLink: http://reckeng
 er-musek.eu/index.php?option=com_jem&view=event&id=36:buergbrennen-zu-lamp
 ech\n
DTSTART;TZID=Europe/Berlin:20200301T191500
DTEND;TZID=Europe/Berlin:20200301T191500
SUMMARY:Buergbrennen zu Lampech
URL:http://reckenger-musek.eu/index.php?option=com_jem&view=event&id=36:bue
 rgbrennen-zu-lampech
END:VEVENT
END:VCALENDAR
