BEGIN:VCALENDAR
VERSION:2.0
PRODID:-//85.13.128.79//NONSGML kigkonsult.se iCalcreator 2.20//
CALSCALE:GREGORIAN
METHOD:PUBLISH
X-WR-TIMEZONE:Europe/Berlin
BEGIN:VEVENT
UID:event35@Reckenger Musek
DTSTAMP:20210720T001246Z
CATEGORIES:Concert
DESCRIPTION:Concert 'Back to the 80's' am Centre Culturel\nCategory: Concer
 t\nLink: http://reckenger-musek.eu/index.php?option=com_jem&view=event&id=
 35:concert-back-to-the-80-s-am-centre-culturel\n
DTSTART;TZID=Europe/Berlin:20200125T193000
DTEND;TZID=Europe/Berlin:20200125T193000
SUMMARY:Concert 'Back to the 80's' am Centre Culturel
URL:http://reckenger-musek.eu/index.php?option=com_jem&view=event&id=35:con
 cert-back-to-the-80-s-am-centre-culturel
END:VEVENT
END:VCALENDAR
