BEGIN:VCALENDAR
VERSION:2.0
PRODID:-//85.13.128.79//NONSGML kigkonsult.se iCalcreator 2.20//
CALSCALE:GREGORIAN
METHOD:PUBLISH
X-WR-TIMEZONE:Europe/Berlin
BEGIN:VEVENT
UID:event31@Reckenger Musek
DTSTAMP:20210720T001629Z
CATEGORIES:Concert
DESCRIPTION:Concert op der Plëss\nCategory: Concert\nLink: http://reckenger
 -musek.eu/index.php?option=com_jem&view=event&id=31:concert-op-der-pless\n
DTSTART;TZID=Europe/Berlin:20190919T200000
DTEND;TZID=Europe/Berlin:20190919T200000
SUMMARY:Concert op der Plëss
URL:http://reckenger-musek.eu/index.php?option=com_jem&view=event&id=31:con
 cert-op-der-pless
END:VEVENT
END:VCALENDAR
