BEGIN:VCALENDAR
VERSION:2.0
PRODID:-//85.13.128.79//NONSGML kigkonsult.se iCalcreator 2.20//
CALSCALE:GREGORIAN
METHOD:PUBLISH
X-WR-TIMEZONE:Europe/Berlin
BEGIN:VEVENT
UID:event30@Reckenger Musek
DTSTAMP:20210720T001657Z
CATEGORIES:Concert
DESCRIPTION:Concert um zu Biergem am Nëssert (Parfest)\nCategory: Concert\n
 Link: http://reckenger-musek.eu/index.php?option=com_jem&view=event&id=30:
 concert-um-zu-biergem-am-nessert-parfest\n
DTSTART;TZID=Europe/Berlin:20190707T190000
DTEND;TZID=Europe/Berlin:20190707T190000
SUMMARY:Concert um zu Biergem am Nëssert (Parfest)
URL:http://reckenger-musek.eu/index.php?option=com_jem&view=event&id=30:con
 cert-um-zu-biergem-am-nessert-parfest
END:VEVENT
END:VCALENDAR
