BEGIN:VCALENDAR
VERSION:2.0
PRODID:-//85.13.128.79//NONSGML kigkonsult.se iCalcreator 2.20//
CALSCALE:GREGORIAN
METHOD:PUBLISH
X-WR-TIMEZONE:Europe/Berlin
BEGIN:VEVENT
UID:event29@Reckenger Musek
DTSTAMP:20210720T001706Z
CATEGORIES:Concert
DESCRIPTION:Concert zu Steesel\nCategory: Concert\nLink: http://reckenger-m
 usek.eu/index.php?option=com_jem&view=event&id=29:concert-zu-steesel\n
DTSTART;TZID=Europe/Berlin:20190706T193000
DTEND;TZID=Europe/Berlin:20190706T193000
SUMMARY:Concert zu Steesel
URL:http://reckenger-musek.eu/index.php?option=com_jem&view=event&id=29:con
 cert-zu-steesel
END:VEVENT
END:VCALENDAR
