BEGIN:VCALENDAR
VERSION:2.0
PRODID:-//85.13.128.79//NONSGML kigkonsult.se iCalcreator 2.20//
CALSCALE:GREGORIAN
METHOD:PUBLISH
X-WR-TIMEZONE:Europe/Berlin
BEGIN:VEVENT
UID:event27@Reckenger Musek
DTSTAMP:20210720T001646Z
CATEGORIES:Sortie
DESCRIPTION:Hämmelsmarsch zu Lampech\nCategory: Sortie\nLink: http://recken
 ger-musek.eu/index.php?option=com_jem&view=event&id=27:haemmelsmarsch-zu-l
 ampech\n
DTSTART;TZID=Europe/Berlin:20190818T093000
DTEND;TZID=Europe/Berlin:20190818T093000
SUMMARY:Hämmelsmarsch zu Lampech
URL:http://reckenger-musek.eu/index.php?option=com_jem&view=event&id=27:hae
 mmelsmarsch-zu-lampech
END:VEVENT
END:VCALENDAR
