BEGIN:VCALENDAR
VERSION:2.0
PRODID:-//85.13.128.79//NONSGML kigkonsult.se iCalcreator 2.20//
CALSCALE:GREGORIAN
METHOD:PUBLISH
X-WR-TIMEZONE:Europe/Berlin
BEGIN:VEVENT
UID:event11@Reckenger Musek
DTSTAMP:20210720T001302Z
CATEGORIES:Fest
DESCRIPTION:Träipenowend am Centre culturel\nCategory: Fest\nLink: http://r
 eckenger-musek.eu/index.php?option=com_jem&view=event&id=11:traipenowend-a
 m-centre-culturel\n
DTSTART;TZID=Europe/Berlin:20191207T173000
DTEND;TZID=Europe/Berlin:20191207T173000
SUMMARY:Träipenowend am Centre culturel
URL:http://reckenger-musek.eu/index.php?option=com_jem&view=event&id=11:tra
 ipenowend-am-centre-culturel
END:VEVENT
END:VCALENDAR
