BEGIN:VCALENDAR
VERSION:2.0
PRODID:-//85.13.128.79//NONSGML kigkonsult.se iCalcreator 2.20//
CALSCALE:GREGORIAN
METHOD:PUBLISH
X-WR-TIMEZONE:Europe/Berlin
BEGIN:VEVENT
UID:event10@Reckenger Musek
DTSTAMP:20210720T001514Z
CATEGORIES:Sortie
DESCRIPTION:Cortège fir de Kleeschen\nCategory: Sortie\nLink: http://recken
 ger-musek.eu/index.php?option=com_jem&view=event&id=10:cortege-fir-de-klee
 schen\n
DTSTART;TZID=Europe/Berlin:20191130T143000
DTEND;TZID=Europe/Berlin:20191130T143000
SUMMARY:Cortège fir de Kleeschen
URL:http://reckenger-musek.eu/index.php?option=com_jem&view=event&id=10:cor
 tege-fir-de-kleeschen
END:VEVENT
END:VCALENDAR
